BEGIN:VCALENDAR
VERSION:2.0
PRODID:-//jEvents 2.0 for Joomla//EN
CALSCALE:GREGORIAN
METHOD:PUBLISH
BEGIN:VTIMEZONE
TZID:Pacific/Auckland
END:VTIMEZONE
BEGIN:VEVENT
UID:367fa3b4c566de923aced5e23938ee32
CATEGORIES:Meetings
CREATED:20181108T174002
SUMMARY:SystemD
LOCATION:L J  Hooker Tauranga Realty\, corner of 8th Ave and Cameron Rd
DESCRIPTION:<p>SystemD</p>
CONTACT:Robert Taylor 07 578 6024
DTSTAMP:20260424T132042
DTSTART;TZID=Pacific/Auckland:20181204T190000
DTEND;TZID=Pacific/Auckland:20181204T210000
SEQUENCE:0
TRANSP:OPAQUE
END:VEVENT
END:VCALENDAR